Package: shinyepico Version: 1.15.0 Command: /home/biocbuild/bbs-3.21-bioc/R/bin/R CMD build --keep-empty-dirs --no-resave-data shinyepico StartedAt: 2025-02-09 19:16:21 -0500 (Sun, 09 Feb 2025) EndedAt: 2025-02-09 19:16:30 -0500 (Sun, 09 Feb 2025) EllapsedTime: 9.0 seconds RetCode: 0 Status: OK PackageFile: shinyepico_1.15.0.tar.gz PackageFileSize: 2.248 MiB