Package: shinyepico Version: 1.15.0 Command: /home/biocbuild/bbs-3.21-bioc/R/bin/R CMD check --install=check:shinyepico.install-out.txt --library=/home/biocbuild/bbs-3.21-bioc/R/site-library --timings shinyepico_1.15.0.tar.gz StartedAt: 2025-02-10 02:38:17 -0500 (Mon, 10 Feb 2025) EndedAt: 2025-02-10 02:41:13 -0500 (Mon, 10 Feb 2025) EllapsedTime: 175.4 seconds RetCode: 0 Status: OK CheckDir: shinyepico.Rcheck Warnings: 0