Package: shinyepico Version: 1.15.0 Command: /home/biocbuild/bbs-3.21-bioc/R/bin/R CMD INSTALL shinyepico StartedAt: 2025-02-09 15:41:37 -0500 (Sun, 09 Feb 2025) EndedAt: 2025-02-09 15:41:42 -0500 (Sun, 09 Feb 2025) EllapsedTime: 5.1 seconds RetCode: 0 Status: OK