Package: shinyepico Version: 1.15.0 Command: rm -rf shinyepico.buildbin-libdir && mkdir shinyepico.buildbin-libdir && E:\biocbuild\bbs-3.21-bioc\R\bin\R.exe CMD INSTALL --build --library=shinyepico.buildbin-libdir shinyepico_1.15.0.tar.gz StartedAt: 2025-02-10 08:42:40 -0500 (Mon, 10 Feb 2025) EndedAt: 2025-02-10 08:42:57 -0500 (Mon, 10 Feb 2025) EllapsedTime: 17.6 seconds RetCode: 0 Status: OK PackageFile: shinyepico_1.15.0.zip PackageFileSize: 1.468 MiB