Package: shinyepico Version: 1.15.0 Command: E:\biocbuild\bbs-3.21-bioc\R\bin\R.exe CMD check --no-multiarch --install=check:shinyepico.install-out.txt --library=E:\biocbuild\bbs-3.21-bioc\R\library --no-vignettes --timings shinyepico_1.15.0.tar.gz StartedAt: 2025-02-10 05:25:55 -0500 (Mon, 10 Feb 2025) EndedAt: 2025-02-10 05:30:18 -0500 (Mon, 10 Feb 2025) EllapsedTime: 262.3 seconds RetCode: 0 Status: OK CheckDir: shinyepico.Rcheck Warnings: 0