Package: shinyepico Version: 1.15.0 Command: E:\biocbuild\bbs-3.21-bioc\R\bin\R.exe CMD INSTALL shinyepico StartedAt: 2025-02-09 16:59:12 -0500 (Sun, 09 Feb 2025) EndedAt: 2025-02-09 16:59:23 -0500 (Sun, 09 Feb 2025) EllapsedTime: 11.0 seconds RetCode: 0 Status: OK