Package: sights Version: 1.33.0 Maintainer: Elika Garg MaintainerEmail: elika.garg at mail.mcgill.ca git_url: https://git.bioconductor.org/packages/sights git_branch: devel git_last_commit: 7b43510 git_last_commit_date: 2024-10-29 10:11:35 -0500 (Tue, 29 Oct 2024)