Package: sights Version: 1.33.0 Command: /Library/Frameworks/R.framework/Resources/bin/R CMD check --install=check:sights.install-out.txt --library=/Library/Frameworks/R.framework/Resources/library --no-vignettes --timings sights_1.33.0.tar.gz StartedAt: 2025-02-09 21:22:11 -0500 (Sun, 09 Feb 2025) EndedAt: 2025-02-09 21:22:52 -0500 (Sun, 09 Feb 2025) EllapsedTime: 41.5 seconds RetCode: 0 Status: OK CheckDir: sights.Rcheck Warnings: 0