Package: sights Version: 1.33.0 Command: /home/biocbuild/R/R/bin/R CMD INSTALL sights StartedAt: 2025-01-29 19:43:19 -0000 (Wed, 29 Jan 2025) EndedAt: 2025-01-29 19:43:28 -0000 (Wed, 29 Jan 2025) EllapsedTime: 8.8 seconds RetCode: 0 Status: OK