Package: sights Version: 1.33.0 Command: /Library/Frameworks/R.framework/Resources/bin/R CMD INSTALL sights StartedAt: 2025-02-09 15:10:46 -0500 (Sun, 09 Feb 2025) EndedAt: 2025-02-09 15:10:55 -0500 (Sun, 09 Feb 2025) EllapsedTime: 8.5 seconds RetCode: 0 Status: OK