Package: sights Version: 1.33.0 Command: /home/biocbuild/bbs-3.21-bioc/R/bin/R CMD check --install=check:sights.install-out.txt --library=/home/biocbuild/bbs-3.21-bioc/R/site-library --timings sights_1.33.0.tar.gz StartedAt: 2025-02-10 02:39:11 -0500 (Mon, 10 Feb 2025) EndedAt: 2025-02-10 02:41:14 -0500 (Mon, 10 Feb 2025) EllapsedTime: 123.2 seconds RetCode: 0 Status: OK CheckDir: sights.Rcheck Warnings: 0