Package: sights Version: 1.33.0 Command: rm -rf sights.buildbin-libdir && mkdir sights.buildbin-libdir && E:\biocbuild\bbs-3.21-bioc\R\bin\R.exe CMD INSTALL --build --library=sights.buildbin-libdir sights_1.33.0.tar.gz StartedAt: 2025-02-05 08:55:27 -0500 (Wed, 05 Feb 2025) EndedAt: 2025-02-05 08:55:47 -0500 (Wed, 05 Feb 2025) EllapsedTime: 19.6 seconds RetCode: 0 Status: OK PackageFile: sights_1.33.0.zip PackageFileSize: 1.228 MiB