Package: sights Version: 1.33.0 Command: E:\biocbuild\bbs-3.21-bioc\R\bin\R.exe CMD check --no-multiarch --install=check:sights.install-out.txt --library=E:\biocbuild\bbs-3.21-bioc\R\library --no-vignettes --timings sights_1.33.0.tar.gz StartedAt: 2025-02-05 05:52:15 -0500 (Wed, 05 Feb 2025) EndedAt: 2025-02-05 05:54:38 -0500 (Wed, 05 Feb 2025) EllapsedTime: 143.0 seconds RetCode: 0 Status: OK CheckDir: sights.Rcheck Warnings: 0