Package: sights Version: 1.33.0 Command: E:\biocbuild\bbs-3.21-bioc\R\bin\R.exe CMD INSTALL sights StartedAt: 2025-02-04 15:31:35 -0500 (Tue, 04 Feb 2025) EndedAt: 2025-02-04 15:31:53 -0500 (Tue, 04 Feb 2025) EllapsedTime: 18.6 seconds RetCode: 0 Status: OK