Package: signatureSearch Version: 1.21.0 Maintainer: Brendan Gongol MaintainerEmail: bgong001 at ucr.edu git_url: https://git.bioconductor.org/packages/signatureSearch git_branch: devel git_last_commit: eef2cb2 git_last_commit_date: 2024-10-29 10:41:56 -0500 (Tue, 29 Oct 2024)