Package: signatureSearch Version: 1.21.0 Command: rm -rf signatureSearch.buildbin-libdir && mkdir signatureSearch.buildbin-libdir && /Users/biocbuild/BBS/utils/build-universal.sh signatureSearch_1.21.0.tar.gz /Library/Frameworks/R.framework/Resources/bin/R signatureSearch.buildbin-libdir StartedAt: 2025-02-09 22:31:04 -0500 (Sun, 09 Feb 2025) EndedAt: 2025-02-09 22:31:51 -0500 (Sun, 09 Feb 2025) EllapsedTime: 47.0 seconds RetCode: 0 Status: OK PackageFile: signatureSearch_1.21.0.tgz PackageFileSize: 85.24 MiB