Package: signatureSearch Version: 1.21.0 Command: /Library/Frameworks/R.framework/Resources/bin/R CMD INSTALL signatureSearch StartedAt: 2025-02-09 15:20:32 -0500 (Sun, 09 Feb 2025) EndedAt: 2025-02-09 15:21:15 -0500 (Sun, 09 Feb 2025) EllapsedTime: 43.2 seconds RetCode: 0 Status: OK