Package: signatureSearch Version: 1.21.0 Command: /home/biocbuild/R/R/bin/R CMD build --keep-empty-dirs --no-resave-data signatureSearch StartedAt: 2025-01-28 02:28:52 -0000 (Tue, 28 Jan 2025) EndedAt: 2025-01-28 02:50:42 -0000 (Tue, 28 Jan 2025) EllapsedTime: 1310.6 seconds RetCode: 0 Status: OK PackageFile: signatureSearch_1.21.0.tar.gz PackageFileSize: 5.122 MiB