Package: signatureSearch Version: 1.21.0 Command: rm -rf signatureSearch.buildbin-libdir && mkdir signatureSearch.buildbin-libdir && /Users/biocbuild/BBS/utils/build-universal.sh signatureSearch_1.21.0.tar.gz /Library/Frameworks/R.framework/Resources/bin/R signatureSearch.buildbin-libdir StartedAt: 2025-02-10 01:16:48 -0500 (Mon, 10 Feb 2025) EndedAt: 2025-02-10 01:19:16 -0500 (Mon, 10 Feb 2025) EllapsedTime: 147.6 seconds RetCode: 0 Status: OK PackageFile: signatureSearch_1.21.0.tgz PackageFileSize: 85.24 MiB