Package: signatureSearch Version: 1.21.0 Command: /Library/Frameworks/R.framework/Resources/bin/R CMD build --keep-empty-dirs --no-resave-data signatureSearch StartedAt: 2025-02-09 18:28:22 -0500 (Sun, 09 Feb 2025) EndedAt: 2025-02-09 18:44:45 -0500 (Sun, 09 Feb 2025) EllapsedTime: 983.2 seconds RetCode: 0 Status: OK PackageFile: signatureSearch_1.21.0.tar.gz PackageFileSize: 5.287 MiB