Package: signatureSearch Version: 1.21.0 Command: /home/biocbuild/bbs-3.21-bioc/R/bin/R CMD check --install=check:signatureSearch.install-out.txt --library=/home/biocbuild/bbs-3.21-bioc/R/site-library --timings signatureSearch_1.21.0.tar.gz StartedAt: 2025-02-13 02:39:49 -0500 (Thu, 13 Feb 2025) EndedAt: 2025-02-13 03:01:37 -0500 (Thu, 13 Feb 2025) EllapsedTime: 1307.9 seconds RetCode: 0 Status: OK CheckDir: signatureSearch.Rcheck Warnings: 0