Package: signatureSearch Version: 1.21.0 Command: rm -rf signatureSearch.buildbin-libdir && mkdir signatureSearch.buildbin-libdir && E:\biocbuild\bbs-3.21-bioc\R\bin\R.exe CMD INSTALL --build --library=signatureSearch.buildbin-libdir signatureSearch_1.21.0.tar.gz StartedAt: 2025-02-10 08:43:20 -0500 (Mon, 10 Feb 2025) EndedAt: 2025-02-10 08:50:49 -0500 (Mon, 10 Feb 2025) EllapsedTime: 448.8 seconds RetCode: 0 Status: OK PackageFile: signatureSearch_1.21.0.zip PackageFileSize: 85.14 MiB