Package: signatureSearch Version: 1.21.0 Command: chmod a+r signatureSearch -R && E:\biocbuild\bbs-3.21-bioc\R\bin\R.exe CMD build --keep-empty-dirs --no-resave-data signatureSearch StartedAt: 2025-02-09 21:40:44 -0500 (Sun, 09 Feb 2025) EndedAt: 2025-02-09 21:58:17 -0500 (Sun, 09 Feb 2025) EllapsedTime: 1053.7 seconds RetCode: 0 Status: OK PackageFile: signatureSearch_1.21.0.tar.gz PackageFileSize: 4.927 MiB