Package: signeR Version: 2.9.0 Command: rm -rf signeR.buildbin-libdir && mkdir signeR.buildbin-libdir && /Users/biocbuild/BBS/utils/build-universal.sh signeR_2.9.0.tar.gz /Library/Frameworks/R.framework/Resources/bin/R signeR.buildbin-libdir StartedAt: 2025-02-10 22:32:52 -0500 (Mon, 10 Feb 2025) EndedAt: 2025-02-10 22:33:25 -0500 (Mon, 10 Feb 2025) EllapsedTime: 32.7 seconds RetCode: 0 Status: OK PackageFile: signeR_2.9.0.tgz PackageFileSize: 2.497 MiB