Package: signeR Version: 2.9.0 Command: /Library/Frameworks/R.framework/Resources/bin/R CMD build --keep-empty-dirs --no-resave-data signeR StartedAt: 2025-02-12 17:37:36 -0500 (Wed, 12 Feb 2025) EndedAt: 2025-02-12 17:38:53 -0500 (Wed, 12 Feb 2025) EllapsedTime: 76.9 seconds RetCode: 0 Status: OK PackageFile: signeR_2.9.0.tar.gz PackageFileSize: 2.41 MiB