Package: signeR Version: 2.9.0 Command: /Library/Frameworks/R.framework/Resources/bin/R CMD check --install=check:signeR.install-out.txt --library=/Library/Frameworks/R.framework/Resources/library --no-vignettes --timings signeR_2.9.0.tar.gz StartedAt: 2025-02-12 21:27:41 -0500 (Wed, 12 Feb 2025) EndedAt: 2025-02-12 21:30:21 -0500 (Wed, 12 Feb 2025) EllapsedTime: 159.9 seconds RetCode: 0 Status: OK CheckDir: signeR.Rcheck Warnings: 0