Package: signeR Version: 2.9.0 Command: /home/biocbuild/R/R/bin/R CMD build --keep-empty-dirs --no-resave-data signeR StartedAt: 2025-01-29 02:21:47 -0000 (Wed, 29 Jan 2025) EndedAt: 2025-01-29 02:27:21 -0000 (Wed, 29 Jan 2025) EllapsedTime: 333.4 seconds RetCode: 0 Status: OK PackageFile: signeR_2.9.0.tar.gz PackageFileSize: 4.046 MiB