Package: signeR Version: 2.9.0 Command: /home/biocbuild/R/R/bin/R CMD check --install=check:signeR.install-out.txt --library=/home/biocbuild/R/R/site-library --no-vignettes --timings signeR_2.9.0.tar.gz StartedAt: 2025-01-28 15:20:11 -0000 (Tue, 28 Jan 2025) EndedAt: 2025-01-28 15:29:09 -0000 (Tue, 28 Jan 2025) EllapsedTime: 537.6 seconds RetCode: 0 Status: OK CheckDir: signeR.Rcheck Warnings: 0