Package: signeR Version: 2.9.0 Command: rm -rf signeR.buildbin-libdir && mkdir signeR.buildbin-libdir && /Users/biocbuild/BBS/utils/build-universal.sh signeR_2.9.0.tar.gz /Library/Frameworks/R.framework/Resources/bin/R signeR.buildbin-libdir StartedAt: 2025-02-11 01:30:41 -0500 (Tue, 11 Feb 2025) EndedAt: 2025-02-11 01:32:31 -0500 (Tue, 11 Feb 2025) EllapsedTime: 109.8 seconds RetCode: 0 Status: OK PackageFile: signeR_2.9.0.tgz PackageFileSize: 2.506 MiB