Package: signeR Version: 2.9.0 Command: /Library/Frameworks/R.framework/Resources/bin/R CMD build --keep-empty-dirs --no-resave-data signeR StartedAt: 2025-02-10 18:20:50 -0500 (Mon, 10 Feb 2025) EndedAt: 2025-02-10 18:24:39 -0500 (Mon, 10 Feb 2025) EllapsedTime: 229.6 seconds RetCode: 0 Status: OK PackageFile: signeR_2.9.0.tar.gz PackageFileSize: 2.411 MiB