Package: signeR Version: 2.9.0 Command: /Library/Frameworks/R.framework/Resources/bin/R CMD check --install=check:signeR.install-out.txt --library=/Library/Frameworks/R.framework/Resources/library --no-vignettes --timings signeR_2.9.0.tar.gz StartedAt: 2025-02-10 23:54:58 -0500 (Mon, 10 Feb 2025) EndedAt: 2025-02-11 00:02:30 -0500 (Tue, 11 Feb 2025) EllapsedTime: 452.0 seconds RetCode: 0 Status: OK CheckDir: signeR.Rcheck Warnings: 0