Package: signeR Version: 2.9.0 Command: /Library/Frameworks/R.framework/Resources/bin/R CMD INSTALL signeR StartedAt: 2025-02-10 15:43:45 -0500 (Mon, 10 Feb 2025) EndedAt: 2025-02-10 15:45:25 -0500 (Mon, 10 Feb 2025) EllapsedTime: 99.4 seconds RetCode: 0 Status: OK