Package: signeR Version: 2.9.0 Command: /home/biocbuild/bbs-3.21-bioc/R/bin/R CMD build --keep-empty-dirs --no-resave-data signeR StartedAt: 2025-02-12 19:13:24 -0500 (Wed, 12 Feb 2025) EndedAt: 2025-02-12 19:17:08 -0500 (Wed, 12 Feb 2025) EllapsedTime: 223.3 seconds RetCode: 0 Status: OK PackageFile: signeR_2.9.0.tar.gz PackageFileSize: 4.231 MiB