Package: signeR Version: 2.9.0 Command: /home/biocbuild/bbs-3.21-bioc/R/bin/R CMD INSTALL signeR StartedAt: 2025-02-10 16:04:00 -0500 (Mon, 10 Feb 2025) EndedAt: 2025-02-10 16:05:24 -0500 (Mon, 10 Feb 2025) EllapsedTime: 84.2 seconds RetCode: 0 Status: OK