Package: signeR Version: 2.9.0 Command: rm -rf signeR.buildbin-libdir && mkdir signeR.buildbin-libdir && E:\biocbuild\bbs-3.21-bioc\R\bin\R.exe CMD INSTALL --build --library=signeR.buildbin-libdir signeR_2.9.0.tar.gz StartedAt: 2025-02-11 08:57:24 -0500 (Tue, 11 Feb 2025) EndedAt: 2025-02-11 08:59:28 -0500 (Tue, 11 Feb 2025) EllapsedTime: 123.7 seconds RetCode: 0 Status: OK PackageFile: signeR_2.9.0.zip PackageFileSize: 2.872 MiB