Package: signeR Version: 2.9.0 Command: chmod a+r signeR -R && E:\biocbuild\bbs-3.21-bioc\R\bin\R.exe CMD build --keep-empty-dirs --no-resave-data signeR StartedAt: 2025-02-10 21:52:32 -0500 (Mon, 10 Feb 2025) EndedAt: 2025-02-10 21:58:23 -0500 (Mon, 10 Feb 2025) EllapsedTime: 350.6 seconds RetCode: 0 Status: OK PackageFile: signeR_2.9.0.tar.gz PackageFileSize: 2.477 MiB