Package: signeR Version: 2.9.0 Command: E:\biocbuild\bbs-3.21-bioc\R\bin\R.exe CMD check --no-multiarch --install=check:signeR.install-out.txt --library=E:\biocbuild\bbs-3.21-bioc\R\library --no-vignettes --timings signeR_2.9.0.tar.gz StartedAt: 2025-02-11 05:41:01 -0500 (Tue, 11 Feb 2025) EndedAt: 2025-02-11 05:49:37 -0500 (Tue, 11 Feb 2025) EllapsedTime: 516.1 seconds RetCode: 0 Status: OK CheckDir: signeR.Rcheck Warnings: 0