Package: sigsquared Version: 1.39.0 Command: /Library/Frameworks/R.framework/Resources/bin/R CMD build --keep-empty-dirs --no-resave-data sigsquared StartedAt: 2025-02-09 17:37:22 -0500 (Sun, 09 Feb 2025) EndedAt: 2025-02-09 17:37:31 -0500 (Sun, 09 Feb 2025) EllapsedTime: 9.1 seconds RetCode: 0 Status: OK PackageFile: sigsquared_1.39.0.tar.gz PackageFileSize: 441.8 KiB