Package: sigsquared Version: 1.39.0 Command: /home/biocbuild/R/R/bin/R CMD INSTALL sigsquared StartedAt: 2025-01-29 20:15:29 -0000 (Wed, 29 Jan 2025) EndedAt: 2025-01-29 20:15:39 -0000 (Wed, 29 Jan 2025) EllapsedTime: 9.5 seconds RetCode: 0 Status: OK