Package: sigsquared Version: 1.39.0 Command: /home/biocbuild/bbs-3.21-bioc/R/bin/R CMD build --keep-empty-dirs --no-resave-data sigsquared StartedAt: 2025-02-09 19:17:32 -0500 (Sun, 09 Feb 2025) EndedAt: 2025-02-09 19:17:53 -0500 (Sun, 09 Feb 2025) EllapsedTime: 21.0 seconds RetCode: 0 Status: OK PackageFile: sigsquared_1.39.0.tar.gz PackageFileSize: 441.7 KiB