Package: sigsquared Version: 1.39.0 Command: /home/biocbuild/bbs-3.21-bioc/R/bin/R CMD check --install=check:sigsquared.install-out.txt --library=/home/biocbuild/bbs-3.21-bioc/R/site-library --timings sigsquared_1.39.0.tar.gz StartedAt: 2025-02-10 02:39:55 -0500 (Mon, 10 Feb 2025) EndedAt: 2025-02-10 02:41:06 -0500 (Mon, 10 Feb 2025) EllapsedTime: 71.1 seconds RetCode: 0 Status: OK CheckDir: sigsquared.Rcheck Warnings: 0