Package: sigsquared Version: 1.39.0 Command: /home/biocbuild/bbs-3.21-bioc/R/bin/R CMD INSTALL sigsquared StartedAt: 2025-02-09 15:13:44 -0500 (Sun, 09 Feb 2025) EndedAt: 2025-02-09 15:13:51 -0500 (Sun, 09 Feb 2025) EllapsedTime: 6.5 seconds RetCode: 0 Status: OK