Package: sigsquared Version: 1.39.0 Command: rm -rf sigsquared.buildbin-libdir && mkdir sigsquared.buildbin-libdir && E:\biocbuild\bbs-3.21-bioc\R\bin\R.exe CMD INSTALL --build --library=sigsquared.buildbin-libdir sigsquared_1.39.0.tar.gz StartedAt: 2025-02-10 08:43:32 -0500 (Mon, 10 Feb 2025) EndedAt: 2025-02-10 08:44:20 -0500 (Mon, 10 Feb 2025) EllapsedTime: 47.5 seconds RetCode: 0 Status: OK PackageFile: sigsquared_1.39.0.zip PackageFileSize: 325.4 KiB