Package: sigsquared Version: 1.39.0 Command: E:\biocbuild\bbs-3.21-bioc\R\bin\R.exe CMD check --no-multiarch --install=check:sigsquared.install-out.txt --library=E:\biocbuild\bbs-3.21-bioc\R\library --no-vignettes --timings sigsquared_1.39.0.tar.gz StartedAt: 2025-02-10 05:28:29 -0500 (Mon, 10 Feb 2025) EndedAt: 2025-02-10 05:29:41 -0500 (Mon, 10 Feb 2025) EllapsedTime: 71.9 seconds RetCode: 0 Status: OK CheckDir: sigsquared.Rcheck Warnings: 0