Package: simPIC Version: 1.3.0 Command: /Library/Frameworks/R.framework/Resources/bin/R CMD check --install=check:simPIC.install-out.txt --library=/Library/Frameworks/R.framework/Resources/library --no-vignettes --timings simPIC_1.3.0.tar.gz StartedAt: 2025-02-04 21:25:19 -0500 (Tue, 04 Feb 2025) EndedAt: 2025-02-04 21:26:34 -0500 (Tue, 04 Feb 2025) EllapsedTime: 75.9 seconds RetCode: 0 Status: OK CheckDir: simPIC.Rcheck Warnings: 0