Package: simPIC Version: 1.3.0 Command: /Library/Frameworks/R.framework/Resources/bin/R CMD build --keep-empty-dirs --no-resave-data simPIC StartedAt: 2025-02-04 18:20:53 -0500 (Tue, 04 Feb 2025) EndedAt: 2025-02-04 18:21:53 -0500 (Tue, 04 Feb 2025) EllapsedTime: 59.5 seconds RetCode: 0 Status: OK PackageFile: simPIC_1.3.0.tar.gz PackageFileSize: 1.143 MiB