Package: simPIC Version: 1.3.0 Command: /Library/Frameworks/R.framework/Resources/bin/R CMD check --install=check:simPIC.install-out.txt --library=/Library/Frameworks/R.framework/Resources/library --no-vignettes --timings simPIC_1.3.0.tar.gz StartedAt: 2025-02-04 23:21:01 -0500 (Tue, 04 Feb 2025) EndedAt: 2025-02-04 23:24:29 -0500 (Tue, 04 Feb 2025) EllapsedTime: 207.8 seconds RetCode: 0 Status: OK CheckDir: simPIC.Rcheck Warnings: 0