Package: simPIC Version: 1.3.0 Command: /Library/Frameworks/R.framework/Resources/bin/R CMD INSTALL simPIC StartedAt: 2025-02-04 15:31:55 -0500 (Tue, 04 Feb 2025) EndedAt: 2025-02-04 15:32:27 -0500 (Tue, 04 Feb 2025) EllapsedTime: 31.8 seconds RetCode: 0 Status: OK