Package: simPIC Version: 1.3.0 Command: /home/biocbuild/bbs-3.21-bioc/R/bin/R CMD build --keep-empty-dirs --no-resave-data simPIC StartedAt: 2025-02-04 19:15:30 -0500 (Tue, 04 Feb 2025) EndedAt: 2025-02-04 19:16:22 -0500 (Tue, 04 Feb 2025) EllapsedTime: 52.0 seconds RetCode: 0 Status: OK PackageFile: simPIC_1.3.0.tar.gz PackageFileSize: 1.145 MiB