Package: simPIC Version: 1.3.0 Command: /home/biocbuild/bbs-3.21-bioc/R/bin/R CMD check --install=check:simPIC.install-out.txt --library=/home/biocbuild/bbs-3.21-bioc/R/site-library --timings simPIC_1.3.0.tar.gz StartedAt: 2025-02-05 02:48:28 -0500 (Wed, 05 Feb 2025) EndedAt: 2025-02-05 02:52:12 -0500 (Wed, 05 Feb 2025) EllapsedTime: 223.3 seconds RetCode: 0 Status: OK CheckDir: simPIC.Rcheck Warnings: 0